BEGIN:VCALENDAR
VERSION:2.0
PRODID:-//Renovabis//Terminkalender//DE
BEGIN:VTIMEZONE
TZID:Europe/Berlin
X-LIC-LOCATION:Europe/Berlin
BEGIN:DAYLIGHT
TZOFFSETFROM:+0100
TZOFFSETTO:+0200
TZNAME:CEST
DTSTART:19700329T020000
RRULE:FREQ=YEARLY;INTERVAL=1;BYDAY=-1SU;BYMONTH=3
END:DAYLIGHT
BEGIN:STANDARD
TZOFFSETFROM:+0200
TZOFFSETTO:+0100
TZNAME:CET
DTSTART:19701025T030000
RRULE:FREQ=YEARLY;INTERVAL=1;BYDAY=-1SU;BYMONTH=10
END:STANDARD
END:VTIMEZONE
BEGIN:VEVENT
SUMMARY:Renovabis auf dem Katholikentag 2022
DTSTAMP:20220121T112227Z
UID:www_renovabis_de_termine_18022_processwire
DTSTART;TZID=Europe/Berlin:20220525T170000
DTEND;TZID=Europe/Berlin:20220529T113000
LOCATION:Stuttgart
GEO:48.77845;9.180013
DESCRIPTION:"leben teilen" – das Motto des 102. Deutschen Katholikentags in Stuttgart soll Teilen als Grundhaltung christlicher Weltverantwortung in den Mittelpunkt rücken. Vom 25. bis zum 29. Mai 2022 ist auch Renovabis mit dabei. Besuchen Sie uns am Infostand und erfahren Sie mehr über unser Programm!
URL:https://www.renovabis.de/termine/renovabis-auf-dem-katholikentag-2022/
END:VEVENT
END:VCALENDAR