BEGIN:VCALENDAR
VERSION:2.0
PRODID:-//Renovabis//Terminkalender//DE
BEGIN:VTIMEZONE
TZID:Europe/Berlin
X-LIC-LOCATION:Europe/Berlin
BEGIN:DAYLIGHT
TZOFFSETFROM:+0100
TZOFFSETTO:+0200
TZNAME:CEST
DTSTART:19700329T020000
RRULE:FREQ=YEARLY;INTERVAL=1;BYDAY=-1SU;BYMONTH=3
END:DAYLIGHT
BEGIN:STANDARD
TZOFFSETFROM:+0200
TZOFFSETTO:+0100
TZNAME:CET
DTSTART:19701025T030000
RRULE:FREQ=YEARLY;INTERVAL=1;BYDAY=-1SU;BYMONTH=10
END:STANDARD
END:VTIMEZONE
BEGIN:VEVENT
SUMMARY:Ökumenisches Friedensgebet während der Münchner Sicherheitskonferenz
DTSTAMP:20220121T114649Z
UID:www_renovabis_de_termine_18126_processwire
DTSTART;TZID=Europe/Berlin:20220218T130000
DTEND;TZID=Europe/Berlin:20220218T140000
LOCATION:Bürgersaal-Unterkirche\, Neuhauserstraße 14\, München
GEO:48.139019;11.568251
DESCRIPTION:Auf der 58. Münchner Sicherheitskonferenz im Hotel Bayerischer Hof vom 18. bis 20. Februar 2022 diskutierten Politiker aus aller Welt über aktuelle Themen der globalen Sicherheitspolitik. Renovabis lud dazu ein, dieses Treffen mit einem Gebet für Frieden und Zusammenarbeit zu begleiten.
URL:https://www.renovabis.de/termine/friedensgebet-muenchen/
END:VEVENT
END:VCALENDAR