BEGIN:VCALENDAR
VERSION:2.0
PRODID:-//Renovabis//Terminkalender//DE
BEGIN:VTIMEZONE
TZID:Europe/Berlin
X-LIC-LOCATION:Europe/Berlin
BEGIN:DAYLIGHT
TZOFFSETFROM:+0100
TZOFFSETTO:+0200
TZNAME:CEST
DTSTART:19700329T020000
RRULE:FREQ=YEARLY;INTERVAL=1;BYDAY=-1SU;BYMONTH=3
END:DAYLIGHT
BEGIN:STANDARD
TZOFFSETFROM:+0200
TZOFFSETTO:+0100
TZNAME:CET
DTSTART:19701025T030000
RRULE:FREQ=YEARLY;INTERVAL=1;BYDAY=-1SU;BYMONTH=10
END:STANDARD
END:VTIMEZONE
BEGIN:VEVENT
SUMMARY:goEast Filmfestival öffnet am 19. April 2022 seine Pforten
DTSTAMP:20220121T163024Z
UID:www_renovabis_de_termine_18184_processwire
DTSTART;TZID=Europe/Berlin:20220419
DTEND;TZID=Europe/Berlin:20220419
DESCRIPTION:Die 22. Ausgabe des goEast-Festivals steht vor der Tür: vom 19. bis 25. April geht das Festival des mittel- und osteuropäischen Films in Wiesbaden und der Rhein-Main-Region über die Bühne. Über die Finanzierung von Renovabis wird auch heuer wieder ein Recherche-Stipendium vergeben.
URL:https://www.renovabis.de/termine/goeast-filmfestival/
END:VEVENT
END:VCALENDAR