BEGIN:VCALENDAR
VERSION:2.0
PRODID:-//Renovabis//Terminkalender//DE
BEGIN:VTIMEZONE
TZID:Europe/Berlin
X-LIC-LOCATION:Europe/Berlin
BEGIN:DAYLIGHT
TZOFFSETFROM:+0100
TZOFFSETTO:+0200
TZNAME:CEST
DTSTART:19700329T020000
RRULE:FREQ=YEARLY;INTERVAL=1;BYDAY=-1SU;BYMONTH=3
END:DAYLIGHT
BEGIN:STANDARD
TZOFFSETFROM:+0200
TZOFFSETTO:+0100
TZNAME:CET
DTSTART:19701025T030000
RRULE:FREQ=YEARLY;INTERVAL=1;BYDAY=-1SU;BYMONTH=10
END:STANDARD
END:VTIMEZONE
BEGIN:VEVENT
SUMMARY:Listen to the East: Erfahrungen auf dem Weg der Weltsynode
DTSTAMP:20221026T091256Z
UID:www_renovabis_de_termine_29518_processwire
DTSTART;TZID=Europe/Berlin:20221107T180000
DTEND;TZID=Europe/Berlin:20221107T191500
LOCATION:Internet
DESCRIPTION:Im Oktober 2021 hat Papst Franziskus einen weltweiten synodalen Prozess in Gang gesetzt. Die Veranstaltung möchte Stimmen aus dem Osten Europas zu Wort kommen lassen, die von ihren eigenen synodalen Erfahrungen Zeugnis geben.
URL:https://www.renovabis.de/termine/listen-to-the-east-weltsynode/
END:VEVENT
END:VCALENDAR