BEGIN:VCALENDAR
VERSION:2.0
PRODID:-//Renovabis//Terminkalender//DE
BEGIN:VTIMEZONE
TZID:Europe/Berlin
X-LIC-LOCATION:Europe/Berlin
BEGIN:DAYLIGHT
TZOFFSETFROM:+0100
TZOFFSETTO:+0200
TZNAME:CEST
DTSTART:19700329T020000
RRULE:FREQ=YEARLY;INTERVAL=1;BYDAY=-1SU;BYMONTH=3
END:DAYLIGHT
BEGIN:STANDARD
TZOFFSETFROM:+0200
TZOFFSETTO:+0100
TZNAME:CET
DTSTART:19701025T030000
RRULE:FREQ=YEARLY;INTERVAL=1;BYDAY=-1SU;BYMONTH=10
END:STANDARD
END:VTIMEZONE
BEGIN:VEVENT
SUMMARY:„Lesch sieht Schwartz“ - Einsam oder gemeinsam
DTSTAMP:20221028T090926Z
UID:www_renovabis_de_termine_29727_processwire
DTSTART;TZID=Europe/Berlin:20221101T174500
DTEND;TZID=Europe/Berlin:20221101T180000
LOCATION:Internet
DESCRIPTION:Arm und Reich, oben und unten, ihr oder wir - überall tun sich Gräben auf, unsere Gesellschaft scheint sich zu spalten. Dabei zeigen Menschheitsgeschichte und Evolutionstheorie, dass Kooperation das A und O einer funktionierenden und lebendigen Gesellschaft ist.
URL:https://www.renovabis.de/termine/lesch-sieht-schwartz-1/
END:VEVENT
END:VCALENDAR