BEGIN:VCALENDAR
VERSION:2.0
PRODID:-//Renovabis//Terminkalender//DE
BEGIN:VTIMEZONE
TZID:Europe/Berlin
X-LIC-LOCATION:Europe/Berlin
BEGIN:DAYLIGHT
TZOFFSETFROM:+0100
TZOFFSETTO:+0200
TZNAME:CEST
DTSTART:19700329T020000
RRULE:FREQ=YEARLY;INTERVAL=1;BYDAY=-1SU;BYMONTH=3
END:DAYLIGHT
BEGIN:STANDARD
TZOFFSETFROM:+0200
TZOFFSETTO:+0100
TZNAME:CET
DTSTART:19701025T030000
RRULE:FREQ=YEARLY;INTERVAL=1;BYDAY=-1SU;BYMONTH=10
END:STANDARD
END:VTIMEZONE
BEGIN:VEVENT
SUMMARY:Fachtagung gegen Menschenhandel - Analysieren, Vernetzen, Strategien entwickeln
DTSTAMP:20230127T100210Z
UID:www_renovabis_de_termine_32078_processwire
DTSTART;TZID=Europe/Berlin:20230208
DTEND;TZID=Europe/Berlin:20230209
LOCATION:Katholische Akademie in Berlin
GEO:52.527168;13.384711
DESCRIPTION:Die erste Fachtagung zum Thema Menschenhandel der Katholischen Akademie in Berlin in Zusammenarbeit mit der Arbeitsgruppe gegen Menschenhandel, soll einen Beitrag zur Sensibilisierung von Kirche und Öffentlichkeit leisten.
URL:https://www.renovabis.de/termine/fachtagung-gegen-menschenhandel-analysieren-vernetzen-strategien-entwicklen/
END:VEVENT
END:VCALENDAR