BEGIN:VCALENDAR
VERSION:2.0
PRODID:-//Renovabis//Terminkalender//DE
BEGIN:VTIMEZONE
TZID:Europe/Berlin
X-LIC-LOCATION:Europe/Berlin
BEGIN:DAYLIGHT
TZOFFSETFROM:+0100
TZOFFSETTO:+0200
TZNAME:CEST
DTSTART:19700329T020000
RRULE:FREQ=YEARLY;INTERVAL=1;BYDAY=-1SU;BYMONTH=3
END:DAYLIGHT
BEGIN:STANDARD
TZOFFSETFROM:+0200
TZOFFSETTO:+0100
TZNAME:CET
DTSTART:19701025T030000
RRULE:FREQ=YEARLY;INTERVAL=1;BYDAY=-1SU;BYMONTH=10
END:STANDARD
END:VTIMEZONE
BEGIN:VEVENT
SUMMARY:Diskussion zu den Auswirkungen des Krieges in der Ukraine auf die Friedensethik und Friedenspolitik
DTSTAMP:20230614T132837Z
UID:www_renovabis_de_termine_37449_processwire
DTSTART;TZID=Europe/Berlin:20230622T180000
DTEND;TZID=Europe/Berlin:20230622T193000
LOCATION:Internet
DESCRIPTION:Dieses Online-Podium findet im Rahmen einer mehrteiligen Reihe der Deutschen Kommission Justitia et Pax statt, in der mit wechselnden Partnern verschiedene Auswirkungen des Krieges gegen die Ukraine diskutiert werden sollen.
URL:https://www.renovabis.de/termine/online-podium-zu-den-auswirkungen-des-krieges-in-der-ukraine-auf-die-friedensethik-und-friedenspolitik-in-kooperation-mit-der/
END:VEVENT
END:VCALENDAR