BEGIN:VCALENDAR
VERSION:2.0
PRODID:-//Renovabis//Terminkalender//DE
BEGIN:VTIMEZONE
TZID:Europe/Berlin
X-LIC-LOCATION:Europe/Berlin
BEGIN:DAYLIGHT
TZOFFSETFROM:+0100
TZOFFSETTO:+0200
TZNAME:CEST
DTSTART:19700329T020000
RRULE:FREQ=YEARLY;INTERVAL=1;BYDAY=-1SU;BYMONTH=3
END:DAYLIGHT
BEGIN:STANDARD
TZOFFSETFROM:+0200
TZOFFSETTO:+0100
TZNAME:CET
DTSTART:19701025T030000
RRULE:FREQ=YEARLY;INTERVAL=1;BYDAY=-1SU;BYMONTH=10
END:STANDARD
END:VTIMEZONE
BEGIN:VEVENT
SUMMARY:Listen to the East: Drei Tage vor der Wahl - Kirche, Gesellschaft und Politik in Polen
DTSTAMP:20231002T143704Z
UID:www_renovabis_de_termine_39636_processwire
DTSTART;TZID=Europe/Berlin:20231012T180000
DTEND;TZID=Europe/Berlin:20231012
DESCRIPTION:Am 15. Oktober wird in Polen ein neues Parlament gewählt. Das Land befindet sich seit Monaten im Wahlkampfmodus. Welche politische Konstellation und Ausrichtung sind nach den Wahlen zu erwarten? Wie polarisiert oder geeint ist die Gesellschaft? Welche Rolle spielt die katholische Kirche?
URL:https://www.renovabis.de/termine/drei-tage-vor-der-wahl-kirche-gesellschaft-und-politik-in-polen/
END:VEVENT
END:VCALENDAR