BEGIN:VCALENDAR
VERSION:2.0
PRODID:-//Renovabis//Terminkalender//DE
BEGIN:VTIMEZONE
TZID:Europe/Berlin
X-LIC-LOCATION:Europe/Berlin
BEGIN:DAYLIGHT
TZOFFSETFROM:+0100
TZOFFSETTO:+0200
TZNAME:CEST
DTSTART:19700329T020000
RRULE:FREQ=YEARLY;INTERVAL=1;BYDAY=-1SU;BYMONTH=3
END:DAYLIGHT
BEGIN:STANDARD
TZOFFSETFROM:+0200
TZOFFSETTO:+0100
TZNAME:CET
DTSTART:19701025T030000
RRULE:FREQ=YEARLY;INTERVAL=1;BYDAY=-1SU;BYMONTH=10
END:STANDARD
END:VTIMEZONE
BEGIN:VEVENT
SUMMARY:Online-Talk zur Ukraine
DTSTAMP:20231115T155137Z
UID:www_renovabis_de_termine_40749_processwire
DTSTART;TZID=Europe/Berlin:20231213T183000
DTEND;TZID=Europe/Berlin:20231213T193000
LOCATION:Internet
DESCRIPTION:Olena Noha aus Kyiv, Leiterin der Projektabteilung unserer Partnerorganisation Caritas-Spes, berichtet über die aktuelle Situation in der Ukraine und die Arbeit unter Kriegsbedingungen.
URL:https://www.renovabis.de/termine/online-talk-helfen-in-osteuropa-ukraine/
END:VEVENT
END:VCALENDAR