BEGIN:VCALENDAR
VERSION:2.0
PRODID:-//Renovabis//Terminkalender//DE
BEGIN:VTIMEZONE
TZID:Europe/Berlin
X-LIC-LOCATION:Europe/Berlin
BEGIN:DAYLIGHT
TZOFFSETFROM:+0100
TZOFFSETTO:+0200
TZNAME:CEST
DTSTART:19700329T020000
RRULE:FREQ=YEARLY;INTERVAL=1;BYDAY=-1SU;BYMONTH=3
END:DAYLIGHT
BEGIN:STANDARD
TZOFFSETFROM:+0200
TZOFFSETTO:+0100
TZNAME:CET
DTSTART:19701025T030000
RRULE:FREQ=YEARLY;INTERVAL=1;BYDAY=-1SU;BYMONTH=10
END:STANDARD
END:VTIMEZONE
BEGIN:VEVENT
SUMMARY:„Die Würde der Frau ist (un)antastbar!?&quot;
DTSTAMP:20250417T123637Z
UID:www_renovabis_de_termine_55190_processwire
DTSTART;TZID=Europe/Berlin:20250522T183000
DTEND;TZID=Europe/Berlin:20250522
LOCATION:Zwölf-Apostel-Kirche\, An der Apostelkirche 1\, 10783 Berlin-Schöneberg
DESCRIPTION:Über die aktuelle Situation der Prostitution in Deutschland sprechen an diesem Abend in der Berliner Zwölf-Apostel-Kirche Vertreterinnen und Vertreter aus Politik, Zivilgesellschaft und der Strafverfolgung mit den Gästen und mit Betroffenen.
URL:https://www.renovabis.de/termine/die-wuerde-der-frau-ist-un-antastbar/
END:VEVENT
END:VCALENDAR