BEGIN:VCALENDAR
VERSION:2.0
PRODID:-//Renovabis//Terminkalender//DE
BEGIN:VTIMEZONE
TZID:Europe/Berlin
X-LIC-LOCATION:Europe/Berlin
BEGIN:DAYLIGHT
TZOFFSETFROM:+0100
TZOFFSETTO:+0200
TZNAME:CEST
DTSTART:19700329T020000
RRULE:FREQ=YEARLY;INTERVAL=1;BYDAY=-1SU;BYMONTH=3
END:DAYLIGHT
BEGIN:STANDARD
TZOFFSETFROM:+0200
TZOFFSETTO:+0100
TZNAME:CET
DTSTART:19701025T030000
RRULE:FREQ=YEARLY;INTERVAL=1;BYDAY=-1SU;BYMONTH=10
END:STANDARD
END:VTIMEZONE
BEGIN:VEVENT
SUMMARY:„Vertrieben, verletzt und traumatisiert, doch voll der Würde&quot;
DTSTAMP:20250417T144952Z
UID:www_renovabis_de_termine_55217_processwire
DTSTART;TZID=Europe/Berlin:20250523T190000
DTEND;TZID=Europe/Berlin:20250523
LOCATION:Katholische Akademie Berlin\, Hannoversche Str. 5\, 10115 Berlin
DESCRIPTION:Wie geht es den Menschen, die aus der Ukraine geflüchtet sind? Wie schwer sind die Traumata, die Erwachsene und vor allem die Kinder erlitten haben? Die Veranstaltung beleuchtet die menschlichen, sozialen und politischen Aspekte der aktuellen Situation geflüchteter Ukrainerinnen und Ukrainer.
URL:https://www.renovabis.de/termine/vertrieben-verletzt-und-traumatisiert-doch-voll-der-wuerde-zur-aktuellen-situation-aus-der-ukraine-gefluechteter-menschen/
END:VEVENT
END:VCALENDAR