BEGIN:VCALENDAR
VERSION:2.0
PRODID:-//Renovabis//Terminkalender//DE
BEGIN:VTIMEZONE
TZID:Europe/Berlin
X-LIC-LOCATION:Europe/Berlin
BEGIN:DAYLIGHT
TZOFFSETFROM:+0100
TZOFFSETTO:+0200
TZNAME:CEST
DTSTART:19700329T020000
RRULE:FREQ=YEARLY;INTERVAL=1;BYDAY=-1SU;BYMONTH=3
END:DAYLIGHT
BEGIN:STANDARD
TZOFFSETFROM:+0200
TZOFFSETTO:+0100
TZNAME:CET
DTSTART:19701025T030000
RRULE:FREQ=YEARLY;INTERVAL=1;BYDAY=-1SU;BYMONTH=10
END:STANDARD
END:VTIMEZONE
BEGIN:VEVENT
SUMMARY:Feierliches Pontifikalamt zur Eröffnung der Pfingstaktion
DTSTAMP:20250417T150036Z
UID:www_renovabis_de_termine_55224_processwire
DTSTART;TZID=Europe/Berlin:20250525T100000
DTEND;TZID=Europe/Berlin:20250525
DESCRIPTION:Am 25. Mai 2025 um 10 Uhr wird mit einem feierlichen Pontifikalamt die Renovabis-Pfingstaktion in Berlin eröffnet. Es zelebriert der Berliner Erzbischof Koch, der Gottesdienst wird im Livestream übertragen.
URL:https://www.renovabis.de/termine/pontifikalamt-zur-eroeffnung-der-pfingstaktion-2025/
END:VEVENT
END:VCALENDAR