BEGIN:VCALENDAR
VERSION:2.0
PRODID:-//Renovabis//Terminkalender//DE
BEGIN:VTIMEZONE
TZID:Europe/Berlin
X-LIC-LOCATION:Europe/Berlin
BEGIN:DAYLIGHT
TZOFFSETFROM:+0100
TZOFFSETTO:+0200
TZNAME:CEST
DTSTART:19700329T020000
RRULE:FREQ=YEARLY;INTERVAL=1;BYDAY=-1SU;BYMONTH=3
END:DAYLIGHT
BEGIN:STANDARD
TZOFFSETFROM:+0200
TZOFFSETTO:+0100
TZNAME:CET
DTSTART:19701025T030000
RRULE:FREQ=YEARLY;INTERVAL=1;BYDAY=-1SU;BYMONTH=10
END:STANDARD
END:VTIMEZONE
BEGIN:VEVENT
SUMMARY:Abschlussgottesdienst der Renovabis-Pfingstaktion 2025
DTSTAMP:20250417T151334Z
UID:www_renovabis_de_termine_55231_processwire
DTSTART;TZID=Europe/Berlin:20250608T120000
DTEND;TZID=Europe/Berlin:20250608
LOCATION:mia Begegnungszentrum / Centrum Spotkań\, Am See 3b\, 17321 Löcknitz
DESCRIPTION:Zum Abschluss der Renovabis-Pfingstaktion feiern Erzbischof Dr. Heiner Koch und Renovabis-Hauptgeschäftsführer Pfarrer Prof. Dr. Thomas Schwartz einen Gottesdienst im mia Begegnungszentrum in Löcknitz.
URL:https://www.renovabis.de/termine/abschlussgottesdienst-der-renovabis-pfingstaktion-2025/
END:VEVENT
END:VCALENDAR