BEGIN:VCALENDAR
VERSION:2.0
PRODID:-//Renovabis//Terminkalender//DE
BEGIN:VTIMEZONE
TZID:Europe/Berlin
X-LIC-LOCATION:Europe/Berlin
BEGIN:DAYLIGHT
TZOFFSETFROM:+0100
TZOFFSETTO:+0200
TZNAME:CEST
DTSTART:19700329T020000
RRULE:FREQ=YEARLY;INTERVAL=1;BYDAY=-1SU;BYMONTH=3
END:DAYLIGHT
BEGIN:STANDARD
TZOFFSETFROM:+0200
TZOFFSETTO:+0100
TZNAME:CET
DTSTART:19701025T030000
RRULE:FREQ=YEARLY;INTERVAL=1;BYDAY=-1SU;BYMONTH=10
END:STANDARD
END:VTIMEZONE
BEGIN:VEVENT
SUMMARY:Fachtagung „Grauzone Rotlicht: Legalität - Realität - Menschenwürde“
DTSTAMP:20250909T140540Z
UID:www_renovabis_de_termine_62171_processwire
DTSTART;TZID=Europe/Berlin:20251014T100000
DTEND;TZID=Europe/Berlin:20251014T170000
DESCRIPTION:Wie steht es um Menschenwürde im Umfeld von Prostitution? Welche Rolle spielt der Menschenhandel in diesem Bereich? Und: Könnte das Nordische Modell ein Weg für Deutschland sein? Diesen Themen widmet sich eine Fachtagung am 14. Oktober 2025 in Augsburg.
URL:https://www.renovabis.de/termine/fachtagung-grauzone-rotlicht-legalitaet-realitaet-menschenwuerde/
END:VEVENT
END:VCALENDAR