BEGIN:VCALENDAR
VERSION:2.0
PRODID:-//Renovabis//Terminkalender//DE
BEGIN:VTIMEZONE
TZID:Europe/Berlin
X-LIC-LOCATION:Europe/Berlin
BEGIN:DAYLIGHT
TZOFFSETFROM:+0100
TZOFFSETTO:+0200
TZNAME:CEST
DTSTART:19700329T020000
RRULE:FREQ=YEARLY;INTERVAL=1;BYDAY=-1SU;BYMONTH=3
END:DAYLIGHT
BEGIN:STANDARD
TZOFFSETFROM:+0200
TZOFFSETTO:+0100
TZNAME:CET
DTSTART:19701025T030000
RRULE:FREQ=YEARLY;INTERVAL=1;BYDAY=-1SU;BYMONTH=10
END:STANDARD
END:VTIMEZONE
BEGIN:VEVENT
SUMMARY:Gerechter Frieden und gesellschaftlicher Zusammenhalt: Gemeinsam handeln für die Freiheit in Europa
DTSTAMP:20251010T094810Z
UID:www_renovabis_de_termine_63723_processwire
DTSTART;TZID=Europe/Berlin:20251113T183000
DTEND;TZID=Europe/Berlin:20251113T200000
LOCATION:Katholische Akademie Berlin\, Seminarraum C im 1. OG\, Hannoversche Straße 5\, 10115 Berlin
GEO:52.527348;13.384738
DESCRIPTION:Wie kann Europa die Ukraine in ihrem Kampf für Freiheit und Zusammenhalt unterstützen – und was kann es von ihr lernen? Am 13. November diskutieren Expertinnen und Experten in der Katholischen Akademie Berlin über Resilienz, Verantwortung und gemeinsame Wege zu einem gerechten Frieden.
URL:https://www.renovabis.de/termine/gerechter-frieden-und-gesellschaftlicher-zusammenhalt-gemeinsam-handeln-fuer-die-freiheit-in-europa/
END:VEVENT
END:VCALENDAR