BEGIN:VCALENDAR
VERSION:2.0
PRODID:-//Renovabis//Terminkalender//DE
BEGIN:VTIMEZONE
TZID:Europe/Berlin
X-LIC-LOCATION:Europe/Berlin
BEGIN:DAYLIGHT
TZOFFSETFROM:+0100
TZOFFSETTO:+0200
TZNAME:CEST
DTSTART:19700329T020000
RRULE:FREQ=YEARLY;INTERVAL=1;BYDAY=-1SU;BYMONTH=3
END:DAYLIGHT
BEGIN:STANDARD
TZOFFSETFROM:+0200
TZOFFSETTO:+0100
TZNAME:CET
DTSTART:19701025T030000
RRULE:FREQ=YEARLY;INTERVAL=1;BYDAY=-1SU;BYMONTH=10
END:STANDARD
END:VTIMEZONE
BEGIN:VEVENT
SUMMARY:„Was ist der Mensch, dass du seiner gedenkst? (Ps 8,5a)“
DTSTAMP:20251022T143325Z
UID:www_renovabis_de_termine_64467_processwire
DTSTART;TZID=Europe/Berlin:20251118T190000
DTEND;TZID=Europe/Berlin:20251118T203000
LOCATION:Internet
DESCRIPTION:Unter dem Motto „biblisch motiviert – politisch engagiert“ kommen wir ausgehend von biblischen Texten mit dem Diakon und Holzbildhauer Ralf Knoblauch über heutige Erfahrungen auch mit seinem künstlerischen Plädoyer für die Achtung der Würde aller Menschen ins Gespräch.
URL:https://www.renovabis.de/termine/was-ist-der-mensch-dass-du-seiner-gedenkst/
END:VEVENT
END:VCALENDAR