BEGIN:VCALENDAR
VERSION:2.0
PRODID:-//Renovabis//Terminkalender//DE
BEGIN:VTIMEZONE
TZID:Europe/Berlin
X-LIC-LOCATION:Europe/Berlin
BEGIN:DAYLIGHT
TZOFFSETFROM:+0100
TZOFFSETTO:+0200
TZNAME:CEST
DTSTART:19700329T020000
RRULE:FREQ=YEARLY;INTERVAL=1;BYDAY=-1SU;BYMONTH=3
END:DAYLIGHT
BEGIN:STANDARD
TZOFFSETFROM:+0200
TZOFFSETTO:+0100
TZNAME:CET
DTSTART:19701025T030000
RRULE:FREQ=YEARLY;INTERVAL=1;BYDAY=-1SU;BYMONTH=10
END:STANDARD
END:VTIMEZONE
BEGIN:VEVENT
SUMMARY:Russia’s Hybrid War and Dissolution of Truth
DTSTAMP:20260127T172916Z
UID:www_renovabis_de_termine_70348_processwire
DTSTART;TZID=Europe/Berlin:20260211T180000
DTEND;TZID=Europe/Berlin:20260211T200000
LOCATION:Große Aula der LMU Geschwister-Scholl-Platz 1 80539 München
GEO:48.150475;11.579836
DESCRIPTION:Wie die Wahrheit allmählich verwässert – und was das für die Demokratie bedeutet: Das Münchner Friedenssymposium lädt am 11.02. zum Austausch mit Expertinnen und Experten ein.
URL:https://www.renovabis.de/termine/muenchner-friedenssymposium-russias-hybrid-war-and-dissolution-of-truth/
END:VEVENT
END:VCALENDAR