BEGIN:VCALENDAR
VERSION:2.0
PRODID:-//Renovabis//Terminkalender//DE
BEGIN:VTIMEZONE
TZID:Europe/Berlin
X-LIC-LOCATION:Europe/Berlin
BEGIN:DAYLIGHT
TZOFFSETFROM:+0100
TZOFFSETTO:+0200
TZNAME:CEST
DTSTART:19700329T020000
RRULE:FREQ=YEARLY;INTERVAL=1;BYDAY=-1SU;BYMONTH=3
END:DAYLIGHT
BEGIN:STANDARD
TZOFFSETFROM:+0200
TZOFFSETTO:+0100
TZNAME:CET
DTSTART:19701025T030000
RRULE:FREQ=YEARLY;INTERVAL=1;BYDAY=-1SU;BYMONTH=10
END:STANDARD
END:VTIMEZONE
BEGIN:VEVENT
SUMMARY:Online-Konferenz zum Umgang mit den Toten
DTSTAMP:20260310T115307Z
UID:www_renovabis_de_termine_72133_processwire
DTSTART;TZID=Europe/Berlin:20260415T143000
DTEND;TZID=Europe/Berlin:20260415T200000
LOCATION:Internet
DESCRIPTION:Die Kooperationsveranstaltung geht der Frage nach, wie Religions- und Weltanschauungsfreiheit sowie Menschenwürde bei Bestattung und Gedenken weltweit gewahrt oder verletzt werden. Mit internationalen Beispielen und Expertinnen und Experten aus Politik, Wissenschaft und Zivilgesellschaft.
URL:https://www.renovabis.de/termine/online-konferenz-der-umgang-mit-den-toten-eine-frage-der-religions-und-weltanschauungsfreiheit-und-der-menschenwuerde/
END:VEVENT
END:VCALENDAR