BEGIN:VCALENDAR
VERSION:2.0
PRODID:-//Renovabis//Terminkalender//DE
BEGIN:VTIMEZONE
TZID:Europe/Berlin
X-LIC-LOCATION:Europe/Berlin
BEGIN:DAYLIGHT
TZOFFSETFROM:+0100
TZOFFSETTO:+0200
TZNAME:CEST
DTSTART:19700329T020000
RRULE:FREQ=YEARLY;INTERVAL=1;BYDAY=-1SU;BYMONTH=3
END:DAYLIGHT
BEGIN:STANDARD
TZOFFSETFROM:+0200
TZOFFSETTO:+0100
TZNAME:CET
DTSTART:19701025T030000
RRULE:FREQ=YEARLY;INTERVAL=1;BYDAY=-1SU;BYMONTH=10
END:STANDARD
END:VTIMEZONE
BEGIN:VEVENT
SUMMARY:30. Internationaler Kongress Renovabis
DTSTAMP:20260310T170254Z
UID:www_renovabis_de_termine_72372_processwire
DTSTART;TZID=Europe/Berlin:20260916T190000
DTEND;TZID=Europe/Berlin:20260918T130000
LOCATION:Internet
DESCRIPTION:Der gesellschaftliche Zusammenhalt in Europa gerät zunehmend unter Druck. Dieses Thema bildet den Schwerpunkt des 30. Internationalen Kongresses Renovabis, der von 16. bis 18. September 2026 in Freising und als Livestream veranstaltet wird.
URL:https://www.renovabis.de/termine/30-internationaler-kongress-renovabis/
END:VEVENT
END:VCALENDAR