BEGIN:VCALENDAR
VERSION:2.0
PRODID:-//Renovabis//Terminkalender//DE
BEGIN:VTIMEZONE
TZID:Europe/Berlin
X-LIC-LOCATION:Europe/Berlin
BEGIN:DAYLIGHT
TZOFFSETFROM:+0100
TZOFFSETTO:+0200
TZNAME:CEST
DTSTART:19700329T020000
RRULE:FREQ=YEARLY;INTERVAL=1;BYDAY=-1SU;BYMONTH=3
END:DAYLIGHT
BEGIN:STANDARD
TZOFFSETFROM:+0200
TZOFFSETTO:+0100
TZNAME:CET
DTSTART:19701025T030000
RRULE:FREQ=YEARLY;INTERVAL=1;BYDAY=-1SU;BYMONTH=10
END:STANDARD
END:VTIMEZONE
BEGIN:VEVENT
SUMMARY:Listen to the East!: „zusammen_wachsen: Für ein menschliches Europa“
DTSTAMP:20260401T085925Z
UID:www_renovabis_de_termine_74113_processwire
DTSTART;TZID=Europe/Berlin:20260428T180000
DTEND;TZID=Europe/Berlin:20260428T191500
LOCATION:Internet
DESCRIPTION:Der gesellschaftliche Zusammenhalt steht in vielen Ländern unter Druck. Wir hören von aktuellen Entwicklungen, sprechen über Möglichkeiten, negativen Trends zu begegnen, und diskutieren soziale Analysen sowie Praxisbeispiele aus der Slowakei und Serbien.
URL:https://www.renovabis.de/termine/listen-to-the-east-zusammen_wachsen-fuer-ein-menschliches-europa/
END:VEVENT
END:VCALENDAR