BEGIN:VCALENDAR
VERSION:2.0
PRODID:-//Renovabis//Terminkalender//DE
BEGIN:VTIMEZONE
TZID:Europe/Berlin
X-LIC-LOCATION:Europe/Berlin
BEGIN:DAYLIGHT
TZOFFSETFROM:+0100
TZOFFSETTO:+0200
TZNAME:CEST
DTSTART:19700329T020000
RRULE:FREQ=YEARLY;INTERVAL=1;BYDAY=-1SU;BYMONTH=3
END:DAYLIGHT
BEGIN:STANDARD
TZOFFSETFROM:+0200
TZOFFSETTO:+0100
TZNAME:CET
DTSTART:19701025T030000
RRULE:FREQ=YEARLY;INTERVAL=1;BYDAY=-1SU;BYMONTH=10
END:STANDARD
END:VTIMEZONE
BEGIN:VEVENT
SUMMARY:Wie Synodalität in der katholischen Kirche heute gelebt werden kann
DTSTAMP:20260401T103419Z
UID:www_renovabis_de_termine_74339_processwire
DTSTART;TZID=Europe/Berlin:20260622T190000
DTEND;TZID=Europe/Berlin:20260622T211500
LOCATION:Internet
DESCRIPTION:Mit dieser Veranstaltung beginnt die Reihe „Synodalität konkret“, mit der die Domberg-Akademie Freising zusammen mit Renovabis das Thema Synodalität aus unterschiedlichen Perspektiven und mit Praxisbezug in den Blick nehmen wird.
URL:https://www.renovabis.de/termine/wie-synodalitaet-in-der-katholischen-kirche-heute-gelebt-werden-kann/
END:VEVENT
END:VCALENDAR