BEGIN:VCALENDAR
VERSION:2.0
PRODID:-//Renovabis//Terminkalender//DE
BEGIN:VTIMEZONE
TZID:Europe/Berlin
X-LIC-LOCATION:Europe/Berlin
BEGIN:DAYLIGHT
TZOFFSETFROM:+0100
TZOFFSETTO:+0200
TZNAME:CEST
DTSTART:19700329T020000
RRULE:FREQ=YEARLY;INTERVAL=1;BYDAY=-1SU;BYMONTH=3
END:DAYLIGHT
BEGIN:STANDARD
TZOFFSETFROM:+0200
TZOFFSETTO:+0100
TZNAME:CET
DTSTART:19701025T030000
RRULE:FREQ=YEARLY;INTERVAL=1;BYDAY=-1SU;BYMONTH=10
END:STANDARD
END:VTIMEZONE
BEGIN:VEVENT
SUMMARY:Renovabis in der Sendung &quot;Katholische Welt&quot; im BR2
DTSTAMP:20190523T142704Z
UID:www_renovabis_de_termine_9406_processwire
DTSTART;TZID=Europe/Berlin:20190602T080500
DTEND;TZID=Europe/Berlin:20190602T083000
DESCRIPTION:Renovabis-Hauptgeschäftsführer Dr. Christian Hartl ist am Sonntag vor Pfingsten zu Gast in der Sendung "Katholische Welt" des Bayerischen Rundfunks
URL:https://www.renovabis.de/termine/renovabis-in-der-sendung-katholische-welt-im-br2/
END:VEVENT
END:VCALENDAR